Workbook
Name AankomstDag: Constanten!$D$9:$D$12
Name Betaald: Inschrijvingen!$F$7:$F$681
Name BetaaldClub: Constanten!$B$9:$B$11
Name Categorie: Inschrijvingen!$G$7:$G$681
Name CategorieWaarden: Constanten!$F$3:$F$5
Name Dag_1: Inschrijvingen!$I$7:$I$681
Name Dag_2_Middag: Inschrijvingen!$K$7:$K$681
Name Dag_2_Ochtend: Inschrijvingen!$J$7:$J$681
Name Dag_3_Middag: Inschrijvingen!$M$7:$M$681
Name Dag_3_Ochtend: Inschrijvingen!$L$7:$L$681
Name Dag_4: Inschrijvingen!$N$7:$N$681
Name DATA_ANaam: Inschrijvingen!$R$7:$R$681
Name DATA_Land: Inschrijvingen!$O$7:$O$681
Name DATA_Ver: Inschrijvingen!$E$7:$E$681
Name DeelnameNamen: Participants!$T$9:$T$83
Name DeelnameNamen: #REF!
Name GrensU15: Constanten!$F$9
Name HotelWaarden: Constanten!$D$3:$D$6
Name InschrijvingBetaald: 'Club details'!$C$44
Name JAARGANG: Constanten!$H$3
Name JAARTAL: Constanten!$H$4
Name JaNee: Constanten!$B$3:$B$4
Name Kamer: Constanten!$D$15:$D$16
Name KostenClinic: Constanten!$K$7
Name KostenEnkeleTrainingJudoka: Constanten!$K$5
Name KostenHeleStage: Constanten!$K$4:$L$4
Name KostenHeleStageJudoka: Constanten!$K$4
Name KostenStage: Constanten!$N$15:$O$21
Name KostenTraining: Constanten!$K$5:$L$5
Name KostenTransportHotel: Constanten!$K$18
Name KostenTransportSchiphol: Constanten!$K$19
Name OptieBeschrijvingen: Constanten!$O$4:$O$7
Name OptieClub: 'Club details'!$B$16
Name Opties: Constanten!$O$4:$Q$7

Sheet Club details
A1: Registration form
A2: =CONCATENATE( JAARGANG, " Topjudo Rotterdam International Trainingcamp ", JAARTAL) -> 23rd Topjudo Rotterdam International Trainingcamp 2026
A4: Club Name
A5: Address
A6: Postal code
A7: City
A8: Country
A10: Contact person
A11: E-mail
A12: Phone
A14: Date
A16: Option training camp club | B16: a: Whole training camp
A17: First day of participation
A19: If available: flight details
A20: Incoming flight
A21: Outbound flight
A23: Further remarks and/or special requests
A25: Information for Participants list (tab Participants)
A26: To be provided by the participating judo-club | B26: Provide all details in the green cells, they will be used as default for all the participants of your club, in the "Participants" tab sheet. On the "Participants" tab sheets, only the white cells and the "Category" can be entered by the club. Light yellow cells are filled in automatically by the template. Light blue fields here below are used by the template to calculate the cost estimate for the entire application.
A27: Category | B27: Participants will be allocated automatically into "15-" or "15+", based on year of birth. If desired, a judoka can be assigned another category (e.g. for lighter -18 or heavier -15 athletes), this is done by manually selecting "15-" or "15+" in the Category-cell, for this person. For trainers and coaches, select "Coach" in the Category-cell.
A28: Coaches who want to participate in (other) training sessions (also see Disclaimer number 5) | B28: In case a trainer/coach (for instance when supporting the 15- group of his club) also wants to participate in a number of 15+ sessions himself, he/she has to be registered twice: 1x as Coach and 1x as participant for the number of sessions he wants to participate in. During the check-in, he/she will receive two cards, so that he/she can participate both as trainer/coach and as athlete during the other sessions.
A29: Option training camp club | B29: In cell B16 select the number of training sessions your club wants to participate. This will automatically be filled in column F of the "Participants" tab sheet. Then where needed, per participant the number of training sessions can be adjusted as desired. The template will automatically calculate the amount owed for the entire club. The two middle days have 2 sessions per category. Participating in the two middle days of the training camp translates to 4 sessions, which will cost the same as for the entire training camp (6 sessions).
A31: Training sessions
A32: Complete training camp | B32: Participate in 4-6 training sessions | C32: =KostenHeleStageJudoka -> 75
A33: Single training session | B33: Participate per training session, applicable to 1-3 training sessions | C33: =KostenEnkeleTrainingJudoka -> 20
A34: Clinic | B34: Only for -10, -12 end -15 judokas | C34: =KostenClinic -> 15
A36: Payment details
A37: Total cost | B37: Total amount for all participants | C37: =Participants!M4 -> 0
A38: Bank account | B38: NL49RABO0329524178
A39: BIC | B39: RABONL2U
A40: Account holder | B40: De Korte Sport- en Gezondheidsinstituut
A41: Description of payment | B41: =CONCATENATE( "Trainingcamp ", JAARTAL, " + name of your club") -> Trainingcamp 2026 + name of your club
A42: Last day of payment | B42: =DATE( JAARTAL, 12, 14) -> 46370
A44: Paid | B44: To be filled in by the organisation | C44: No
A46: Contact information
A47: E-mail | B47: trainingsstage@dekorte.nl
A48: After filling in this registration form, please save the file, adding the name of your club to the filename and send the completed file to the email address above.
A50: Disclaimer
A51: =CONCATENATE( "1) Before/during/after the trainingcamp from 27 untill 30 December ", JAARTAL, " the organisation is not responsible for any theft.") -> 1) Before/during/after the trainingcamp from 27 untill 30 December 2026 the organisation is not responsible for any theft.
A52: =CONCATENATE( "2) Participation in the training camp of 27/30 December ", JAARTAL, " is at own risk, the organisation is not liable for injury or other medical consequences.") -> 2) Participation in the training camp of 27/30 December 2026 is at own risk, the organisation is not liable for injury or other medical consequences.
...

Sheet Participants
A1: Club | C1: ='Club details'!$B$4 -> 0 | F1: Option | H1: Training sessions | K1: Costs | O1: Payment | T1: Complete naam | U1: Data aanwezig | V1: Overnachtingen | W1: Trainingen | X1: Kosten trainingen
C3: Number of persons: | K3: Costs training sessions: | L3: Costs clinics | M3: =CONCATENATE( "Total costs ", C1) -> Total costs 0 | Q3: Total paid | T3: Hulpkolom | U3: Hulpkolom | V3: Hulpkolom | W3: Hulpkolom | X3: Hulpkolom
C4: {=SUM(IF(FREQUENCY(IF(LEN(DeelnameNamen)>0,MATCH(DeelnameNamen,DeelnameNamen,0),""),IF(LEN(DeelnameNamen)>0,MATCH(DeelnameNamen,DeelnameNamen,0),""))>0,1))} -> 0 | K4: =SUM(K9:K83) -> 0 | L4: =SUM(L9:L83) -> 0 | M4: =K4+L4 -> 0 | Q4: =SUM(Q9:Q83) -> 0
A6: Nr | B6: First name | C6: Last name | D6: Year of birth | E6: Category | F6: Option | H6: Num. training sessions | I6: Clinic | K6: Training sessions per person | L6: Clinic per persoon | M6: Sub-total per person | O6: Whole club? | P6: Individual? | T6: ACHTERNAAM, Voornaam | U6: Ja / Nee | V6: Aantal | W6: Aantal | X6: Bedrag
B7: Name | C7: Name | D7: Year | E7: 15- / 15+ / Coach | F7: Select the desired number of training sessions, if different from club-choice | I7: Yes/No | O7: Yes/Partly/No | P7: Yes/No | Q7: Betaald
A9: 1 | E9: =IF(D9<GrensU15,"15+", "15-") -> 15+ | F9: =OptieClub -> a: Whole training camp | H9: =IF( U9="Ja", W9, "-") -> - | K9: =IF( U9="Ja", X9,0) -> 0 | L9: =IF(I9="Yes", KostenClinic,0) -> 0 | M9: =K9+L9 -> 0 | O9: =InschrijvingBetaald -> No | P9: =IF(O9="Partly", "Yes", "") | Q9: =IF(O9="Yes",M9,IF(O9="Partly", IF(OR(P9="Yes",P9=""),M9,0),0)) -> 0 | T9: =IF( ISTEXT(C9), CONCATENATE( UPPER(C9), "; ", B9), "") | U9: =IF(LEN(T9), "Ja", "Nee") -> Nee | V9: =VLOOKUP(F9,Opties,2,FALSE) -> 0 | W9: =VLOOKUP(F9,Opties,3,FALSE) -> 6 | X9: =IF(E9="Coach",0, VLOOKUP(W9, KostenStage, 2, FALSE)) -> 75
A10: 2 | E10: =IF(D10<GrensU15,"15+", "15-") -> 15+ | F10: =OptieClub -> a: Whole training camp | H10: =IF( U10="Ja", W10, "-") -> - | K10: =IF( U10="Ja", X10,0) -> 0 | L10: =IF(I10="Yes", KostenClinic,0) -> 0 | M10: =K10+L10 -> 0 | O10: =InschrijvingBetaald -> No | P10: =IF(O10="Partly", "Yes", "") | Q10: =IF(O10="Yes",M10,IF(O10="Partly", IF(P10="Yes",M10,0),0)) -> 0 | T10: =IF( ISTEXT(C10), CONCATENATE( UPPER(C10), "; ", B10), "") | U10: =IF(LEN(T10), "Ja", "Nee") -> Nee | V10: =VLOOKUP(F10,Opties,2,FALSE) -> 0 | W10: =VLOOKUP(F10,Opties,3,FALSE) -> 6 | X10: =IF(E10="Coach",0, VLOOKUP(W10, KostenStage, 2, FALSE)) -> 75
A11: 3 | E11: =IF(D11<GrensU15,"15+", "15-") -> 15+ | F11: =OptieClub -> a: Whole training camp | H11: =IF( U11="Ja", W11, "-") -> - | K11: =IF( U11="Ja", X11,0) -> 0 | L11: =IF(I11="Yes", KostenClinic,0) -> 0 | M11: =K11+L11 -> 0 | O11: =InschrijvingBetaald -> No | P11: =IF(O11="Partly", "Yes", "") | Q11: =IF(O11="Yes",M11,IF(O11="Partly", IF(P11="Yes",M11,0),0)) -> 0 | T11: =IF( ISTEXT(C11), CONCATENATE( UPPER(C11), "; ", B11), "") | U11: =IF(LEN(T11), "Ja", "Nee") -> Nee | V11: =VLOOKUP(F11,Opties,2,FALSE) -> 0 | W11: =VLOOKUP(F11,Opties,3,FALSE) -> 6 | X11: =IF(E11="Coach",0, VLOOKUP(W11, KostenStage, 2, FALSE)) -> 75
A12: 4 | E12: =IF(D12<GrensU15,"15+", "15-") -> 15+ | F12: =OptieClub -> a: Whole training camp | H12: =IF( U12="Ja", W12, "-") -> - | K12: =IF( U12="Ja", X12,0) -> 0 | L12: =IF(I12="Yes", KostenClinic,0) -> 0 | M12: =K12+L12 -> 0 | O12: =InschrijvingBetaald -> No | P12: =IF(O12="Partly", "Yes", "") | Q12: =IF(O12="Yes",M12,IF(O12="Partly", IF(P12="Yes",M12,0),0)) -> 0 | T12: =IF( ISTEXT(C12), CONCATENATE( UPPER(C12), "; ", B12), "") | U12: =IF(LEN(T12), "Ja", "Nee") -> Nee | V12: =VLOOKUP(F12,Opties,2,FALSE) -> 0 | W12: =VLOOKUP(F12,Opties,3,FALSE) -> 6 | X12: =IF(E12="Coach",0, VLOOKUP(W12, KostenStage, 2, FALSE)) -> 75
A13: 5 | E13: =IF(D13<GrensU15,"15+", "15-") -> 15+ | F13: =OptieClub -> a: Whole training camp | H13: =IF( U13="Ja", W13, "-") -> - | K13: =IF( U13="Ja", X13,0) -> 0 | L13: =IF(I13="Yes", KostenClinic,0) -> 0 | M13: =K13+L13 -> 0 | O13: =InschrijvingBetaald -> No | P13: =IF(O13="Partly", "Yes", "") | Q13: =IF(O13="Yes",M13,IF(O13="Partly", IF(P13="Yes",M13,0),0)) -> 0 | T13: =IF( ISTEXT(C13), CONCATENATE( UPPER(C13), "; ", B13), "") | U13: =IF(LEN(T13), "Ja", "Nee") -> Nee | V13: =VLOOKUP(F13,Opties,2,FALSE) -> 0 | W13: =VLOOKUP(F13,Opties,3,FALSE) -> 6 | X13: =IF(E13="Coach",0, VLOOKUP(W13, KostenStage, 2, FALSE)) -> 75
A14: 6 | E14: =IF(D14<GrensU15,"15+", "15-") -> 15+ | F14: =OptieClub -> a: Whole training camp | H14: =IF( U14="Ja", W14, "-") -> - | K14: =IF( U14="Ja", X14,0) -> 0 | L14: =IF(I14="Yes", KostenClinic,0) -> 0 | M14: =K14+L14 -> 0 | O14: =InschrijvingBetaald -> No | P14: =IF(O14="Partly", "Yes", "") | Q14: =IF(O14="Yes",M14,IF(O14="Partly", IF(P14="Yes",M14,0),0)) -> 0 | T14: =IF( ISTEXT(C14), CONCATENATE( UPPER(C14), "; ", B14), "") | U14: =IF(LEN(T14), "Ja", "Nee") -> Nee | V14: =VLOOKUP(F14,Opties,2,FALSE) -> 0 | W14: =VLOOKUP(F14,Opties,3,FALSE) -> 6 | X14: =IF(E14="Coach",0, VLOOKUP(W14, KostenStage, 2, FALSE)) -> 75
A15: 7 | E15: =IF(D15<GrensU15,"15+", "15-") -> 15+ | F15: =OptieClub -> a: Whole training camp | H15: =IF( U15="Ja", W15, "-") -> - | K15: =IF( U15="Ja", X15,0) -> 0 | L15: =IF(I15="Yes", KostenClinic,0) -> 0 | M15: =K15+L15 -> 0 | O15: =InschrijvingBetaald -> No | P15: =IF(O15="Partly", "Yes", "") | Q15: =IF(O15="Yes",M15,IF(O15="Partly", IF(P15="Yes",M15,0),0)) -> 0 | T15: =IF( ISTEXT(C15), CONCATENATE( UPPER(C15), "; ", B15), "") | U15: =IF(LEN(T15), "Ja", "Nee") -> Nee | V15: =VLOOKUP(F15,Opties,2,FALSE) -> 0 | W15: =VLOOKUP(F15,Opties,3,FALSE) -> 6 | X15: =IF(E15="Coach",0, VLOOKUP(W15, KostenStage, 2, FALSE)) -> 75
A16: 8 | E16: =IF(D16<GrensU15,"15+", "15-") -> 15+ | F16: =OptieClub -> a: Whole training camp | H16: =IF( U16="Ja", W16, "-") -> - | K16: =IF( U16="Ja", X16,0) -> 0 | L16: =IF(I16="Yes", KostenClinic,0) -> 0 | M16: =K16+L16 -> 0 | O16: =InschrijvingBetaald -> No | P16: =IF(O16="Partly", "Yes", "") | Q16: =IF(O16="Yes",M16,IF(O16="Partly", IF(P16="Yes",M16,0),0)) -> 0 | T16: =IF( ISTEXT(C16), CONCATENATE( UPPER(C16), "; ", B16), "") | U16: =IF(LEN(T16), "Ja", "Nee") -> Nee | V16: =VLOOKUP(F16,Opties,2,FALSE) -> 0 | W16: =VLOOKUP(F16,Opties,3,FALSE) -> 6 | X16: =IF(E16="Coach",0, VLOOKUP(W16, KostenStage, 2, FALSE)) -> 75
A17: 9 | E17: =IF(D17<GrensU15,"15+", "15-") -> 15+ | F17: =OptieClub -> a: Whole training camp | H17: =IF( U17="Ja", W17, "-") -> - | K17: =IF( U17="Ja", X17,0) -> 0 | L17: =IF(I17="Yes", KostenClinic,0) -> 0 | M17: =K17+L17 -> 0 | O17: =InschrijvingBetaald -> No | P17: =IF(O17="Partly", "Yes", "") | Q17: =IF(O17="Yes",M17,IF(O17="Partly", IF(P17="Yes",M17,0),0)) -> 0 | T17: =IF( ISTEXT(C17), CONCATENATE( UPPER(C17), "; ", B17), "") | U17: =IF(LEN(T17), "Ja", "Nee") -> Nee | V17: =VLOOKUP(F17,Opties,2,FALSE) -> 0 | W17: =VLOOKUP(F17,Opties,3,FALSE) -> 6 | X17: =IF(E17="Coach",0, VLOOKUP(W17, KostenStage, 2, FALSE)) -> 75
A18: 10 | E18: =IF(D18<GrensU15,"15+", "15-") -> 15+ | F18: =OptieClub -> a: Whole training camp | H18: =IF( U18="Ja", W18, "-") -> - | K18: =IF( U18="Ja", X18,0) -> 0 | L18: =IF(I18="Yes", KostenClinic,0) -> 0 | M18: =K18+L18 -> 0 | O18: =InschrijvingBetaald -> No | P18: =IF(O18="Partly", "Yes", "") | Q18: =IF(O18="Yes",M18,IF(O18="Partly", IF(P18="Yes",M18,0),0)) -> 0 | T18: =IF( ISTEXT(C18), CONCATENATE( UPPER(C18), "; ", B18), "") | U18: =IF(LEN(T18), "Ja", "Nee") -> Nee | V18: =VLOOKUP(F18,Opties,2,FALSE) -> 0 | W18: =VLOOKUP(F18,Opties,3,FALSE) -> 6 | X18: =IF(E18="Coach",0, VLOOKUP(W18, KostenStage, 2, FALSE)) -> 75
A19: 11 | E19: =IF(D19<GrensU15,"15+", "15-") -> 15+ | F19: =OptieClub -> a: Whole training camp | H19: =IF( U19="Ja", W19, "-") -> - | K19: =IF( U19="Ja", X19,0) -> 0 | L19: =IF(I19="Yes", KostenClinic,0) -> 0 | M19: =K19+L19 -> 0 | O19: =InschrijvingBetaald -> No | P19: =IF(O19="Partly", "Yes", "") | Q19: =IF(O19="Yes",M19,IF(O19="Partly", IF(P19="Yes",M19,0),0)) -> 0 | T19: =IF( ISTEXT(C19), CONCATENATE( UPPER(C19), "; ", B19), "") | U19: =IF(LEN(T19), "Ja", "Nee") -> Nee | V19: =VLOOKUP(F19,Opties,2,FALSE) -> 0 | W19: =VLOOKUP(F19,Opties,3,FALSE) -> 6 | X19: =IF(E19="Coach",0, VLOOKUP(W19, KostenStage, 2, FALSE)) -> 75
A20: 12 | E20: =IF(D20<GrensU15,"15+", "15-") -> 15+ | F20: =OptieClub -> a: Whole training camp | H20: =IF( U20="Ja", W20, "-") -> - | K20: =IF( U20="Ja", X20,0) -> 0 | L20: =IF(I20="Yes", KostenClinic,0) -> 0 | M20: =K20+L20 -> 0 | O20: =InschrijvingBetaald -> No | P20: =IF(O20="Partly", "Yes", "") | Q20: =IF(O20="Yes",M20,IF(O20="Partly", IF(P20="Yes",M20,0),0)) -> 0 | T20: =IF( ISTEXT(C20), CONCATENATE( UPPER(C20), "; ", B20), "") | U20: =IF(LEN(T20), "Ja", "Nee") -> Nee | V20: =VLOOKUP(F20,Opties,2,FALSE) -> 0 | W20: =VLOOKUP(F20,Opties,3,FALSE) -> 6 | X20: =IF(E20="Coach",0, VLOOKUP(W20, KostenStage, 2, FALSE)) -> 75
A21: 13 | E21: =IF(D21<GrensU15,"15+", "15-") -> 15+ | F21: =OptieClub -> a: Whole training camp | H21: =IF( U21="Ja", W21, "-") -> - | K21: =IF( U21="Ja", X21,0) -> 0 | L21: =IF(I21="Yes", KostenClinic,0) -> 0 | M21: =K21+L21 -> 0 | O21: =InschrijvingBetaald -> No | P21: =IF(O21="Partly", "Yes", "") | Q21: =IF(O21="Yes",M21,IF(O21="Partly", IF(P21="Yes",M21,0),0)) -> 0 | T21: =IF( ISTEXT(C21), CONCATENATE( UPPER(C21), "; ", B21), "") | U21: =IF(LEN(T21), "Ja", "Nee") -> Nee | V21: =VLOOKUP(F21,Opties,2,FALSE) -> 0 | W21: =VLOOKUP(F21,Opties,3,FALSE) -> 6 | X21: =IF(E21="Coach",0, VLOOKUP(W21, KostenStage, 2, FALSE)) -> 75
... A83: 75 | E83: =IF(D83<GrensU15,"15+", "15-") -> 15+ | F83: =OptieClub -> a: Whole training camp | H83: =IF( U83="Ja", W83, "-") -> - | K83: =IF( U83="Ja", X83,0) -> 0 | L83: =IF(I83="Yes", KostenClinic,0) -> 0 | M83: =K83+L83 -> 0 | O83: =InschrijvingBetaald -> No | P83: =IF(O83="Partly", "Yes", "") | Q83: =IF(O83="Yes",M83,IF(O83="Partly", IF(P83="Yes",M83,0),0)) -> 0 | T83: =IF( ISTEXT(C83), CONCATENATE( UPPER(C83), "; ", B83), "") | U83: =IF(LEN(T83), "Ja", "Nee") -> Nee | V83: =VLOOKUP(F83,Opties,2,FALSE) -> 0 | W83: =VLOOKUP(F83,Opties,3,FALSE) -> 6 | X83: =IF(E83="Coach",0, VLOOKUP(W83, KostenStage, 2, FALSE)) -> 75
M85: =SUM(M9:M83) -> 0
Q86: =SUM(Q9:Q84) -> 0

Sheet Inschrijvingen
A1: Totalen | B1: Personen | D1: Geboortejaar | E1: Verenigingen | F1: Betaald | G1: 15- / 15+ | H1: Aantal trainingen | I1: 1 Training | J1: 2 Training | K1: 3 Training | L1: 4 Training | M1: 5 Training | N1: 6 Training | O1: Landen | P1: Opmerkingen | Q1: Volgorde van inschrijven | R1: Complete naam
B2: {=SUM(IF(FREQUENCY(IF(LEN(DATA_ANaam)>0,MATCH(DATA_ANaam,DATA_ANaam,0),""),IF(LEN(DATA_ANaam)>0,MATCH(DATA_ANaam,DATA_ANaam,0),""))>0,1))} -> 0 | E2: {=SUM(IF(FREQUENCY(IF(LEN(DATA_Ver)>0,MATCH(DATA_Ver,DATA_Ver,0),""),IF(LEN(DATA_Ver)>0,MATCH(DATA_Ver,DATA_Ver,0),""))>0,1))-1} -> 0 | G2: =$B$2-COUNTIF(Categorie,"Coach") -> 0 | I2: =COUNTIFS( Categorie, "15-", Dag_1, "Ja")+COUNTIFS( Categorie, "15+", Dag_1, "Ja") -> 75 | J2: =COUNTIFS( Categorie, "15-", Dag_2_Ochtend, "Ja")+COUNTIFS( Categorie, "15+", Dag_2_Ochtend, "Ja") -> 75 | K2: =COUNTIFS( Categorie, "15-", Dag_2_Middag, "Ja")+COUNTIFS( Categorie, "15+", Dag_2_Middag, "Ja") -> 75 | L2: =COUNTIFS( Categorie, "15-", Dag_3_Ochtend, "Ja")+COUNTIFS( Categorie, "15+", Dag_2_Ochtend, "Ja") -> 75 | M2: =COUNTIFS( Categorie, "15-", Dag_3_Middag, "Ja")+COUNTIFS( Categorie, "15+", Dag_2_Middag, "Ja") -> 75 | N2: =COUNTIFS( Categorie, "15-", Dag_4, "Ja")+COUNTIFS( Categorie, "15+", Dag_4, "Ja") -> 75 | O2: {=SUM(IF(FREQUENCY(IF(LEN(DATA_Land)>0,MATCH(DATA_Land,DATA_Land,0),""),IF(LEN(DATA_Land)>0,MATCH(DATA_Land,DATA_Land,0),""))>0,1))-1} -> 0
F3: ="Betaald: " &COUNTIF(Betaald, "Ja") -> Betaald: 0 | G3: ="15-: " &COUNTIF(Categorie, "15-") -> 15-: 0 | I3: ="15-: " &COUNTIFS( Categorie, "15-", Dag_1, "Ja") -> 15-: 0 | J3: ="15-: " &COUNTIFS( Categorie, "15-", Dag_2_Ochtend, "Ja") -> 15-: 0 | K3: ="15-: " &COUNTIFS( Categorie, "15-", Dag_2_Ochtend, "Ja") -> 15-: 0 | L3: ="15-: " &COUNTIFS( Categorie, "15-", Dag_3_Ochtend, "Ja") -> 15-: 0 | M3: ="15-: " &COUNTIFS( Categorie, "15-", Dag_3_Ochtend, "Ja") -> 15-: 0 | N3: ="15-: " &COUNTIFS( Categorie, "15-", Dag_4, "Ja") -> 15-: 0 | Q3: Hulpkolom | R3: Hulpkolom
F4: ="Nog betalen: " &COUNTIF(Betaald, "Nee") -> Nog betalen: 75 | G4: ="15+: " &($B$2 - COUNTIF(Categorie, "15-")-COUNTIF(Categorie, "Coach")) -> 15+: 0 | I4: ="15+: "&(COUNTIFS(Categorie,"15+",Dag_1,"Ja")) -> 15+: 75 | J4: ="15+: "&(COUNTIFS(Categorie,"15+",Dag_2_Ochtend,"Ja")) -> 15+: 75 | K4: ="15+: "&(COUNTIFS(Categorie,"15+",Dag_2_Ochtend,"Ja")) -> 15+: 75 | L4: ="15+: "&(COUNTIFS(Categorie,"15+",Dag_3_Ochtend,"Ja")) -> 15+: 75 | M4: ="15+: "&(COUNTIFS(Categorie,"15+",Dag_3_Ochtend,"Ja")) -> 15+: 75 | N4: ="15+: "&(COUNTIFS(Categorie,"15+",Dag_4,"Ja")) -> 15+: 75
G5: ="Coach: " &COUNTIF(Categorie, "Coach") -> Coach: 0 | I5: ="Coach: " &COUNTIFS( Categorie, "Coach", Dag_1, "Ja") -> Coach: 0 | J5: ="Coach: " &COUNTIFS( Categorie, "Coach", Dag_2_Ochtend, "Ja") -> Coach: 0 | K5: ="Coach: " &COUNTIFS( Categorie, "Coach", Dag_2_Ochtend, "Ja") -> Coach: 0 | L5: ="Coach: " &COUNTIFS( Categorie, "Coach", Dag_3_Ochtend, "Ja") -> Coach: 0 | M5: ="Coach: " &COUNTIFS( Categorie, "Coach", Dag_3_Ochtend, "Ja") -> Coach: 0 | N5: ="Coach: " &COUNTIFS( Categorie, "Coach", Dag_4, "Ja") -> Coach: 0
A6: Nr | B6: Voornaam | C6: Achternaam | D6: Jaar | E6: Vereniging | F6: Betaald | G6: Categorie | H6: Trainingen | I6: Training | J6: Training | K6: Training | L6: Training | M6: Training | N6: Training | O6: Land | Q6: Nr | R6: ACHTERNAAM, Voornaam
A7: 1 | B7: =Participants!B9 -> 0 | C7: =Participants!C9 -> 0 | D7: =Participants!D9 -> 0 | E7: =Participants!$C$1 -> 0 | F7: =IF(Participants!O9="Yes","Ja",IF(Participants!O9="Partly",Participants!P9,"Nee")) -> Nee | G7: =Participants!E9 -> 15+ | H7: =Participants!H9 -> - | I7: =IF($H7>0, "Ja", "Nee") -> Ja | J7: =IF($H7>1, "Ja", "Nee") -> Ja | K7: =IF($H7>2, "Ja", "Nee") -> Ja | L7: =IF($H7>3, "Ja", "Nee") -> Ja | M7: =IF($H7>4, "Ja", "Nee") -> Ja | N7: =IF($H7>5, "Ja", "Nee") -> Ja | O7: ='Club details'!$B$8 -> 0 | Q7: 1 | R7: =IF( ISTEXT(C7), CONCATENATE( UPPER(C7), "; ", B7), "")
A8: 2 | B8: =Participants!B10 -> 0 | C8: =Participants!C10 -> 0 | D8: =Participants!D10 -> 0 | E8: =Participants!$C$1 -> 0 | F8: =IF(Participants!O10="Yes","Ja",IF(Participants!O10="Partly",Participants!P10,"Nee")) -> Nee | G8: =Participants!E10 -> 15+ | H8: =Participants!H10 -> - | I8: =IF($H8>0, "Ja", "Nee") -> Ja | J8: =IF($H8>1, "Ja", "Nee") -> Ja | K8: =IF($H8>2, "Ja", "Nee") -> Ja | L8: =IF($H8>3, "Ja", "Nee") -> Ja | M8: =IF($H8>4, "Ja", "Nee") -> Ja | N8: =IF($H8>5, "Ja", "Nee") -> Ja | O8: ='Club details'!$B$8 -> 0 | Q8: 2 | R8: =IF( ISTEXT(C8), CONCATENATE( UPPER(C8), "; ", B8), "")
A9: 3 | B9: =Participants!B11 -> 0 | C9: =Participants!C11 -> 0 | D9: =Participants!D11 -> 0 | E9: =Participants!$C$1 -> 0 | F9: =IF(Participants!O11="Yes","Ja",IF(Participants!O11="Partly",Participants!P11,"Nee")) -> Nee | G9: =Participants!E11 -> 15+ | H9: =Participants!H11 -> - | I9: =IF($H9>0, "Ja", "Nee") -> Ja | J9: =IF($H9>1, "Ja", "Nee") -> Ja | K9: =IF($H9>2, "Ja", "Nee") -> Ja | L9: =IF($H9>3, "Ja", "Nee") -> Ja | M9: =IF($H9>4, "Ja", "Nee") -> Ja | N9: =IF($H9>5, "Ja", "Nee") -> Ja | O9: ='Club details'!$B$8 -> 0 | Q9: 3 | R9: =IF( ISTEXT(C9), CONCATENATE( UPPER(C9), "; ", B9), "")
A10: 4 | B10: =Participants!B12 -> 0 | C10: =Participants!C12 -> 0 | D10: =Participants!D12 -> 0 | E10: =Participants!$C$1 -> 0 | F10: =IF(Participants!O12="Yes","Ja",IF(Participants!O12="Partly",Participants!P12,"Nee")) -> Nee | G10: =Participants!E12 -> 15+ | H10: =Participants!H12 -> - | I10: =IF($H10>0, "Ja", "Nee") -> Ja | J10: =IF($H10>1, "Ja", "Nee") -> Ja | K10: =IF($H10>2, "Ja", "Nee") -> Ja | L10: =IF($H10>3, "Ja", "Nee") -> Ja | M10: =IF($H10>4, "Ja", "Nee") -> Ja | N10: =IF($H10>5, "Ja", "Nee") -> Ja | O10: ='Club details'!$B$8 -> 0 | Q10: 4 | R10: =IF( ISTEXT(C10), CONCATENATE( UPPER(C10), "; ", B10), "")
A11: 5 | B11: =Participants!B13 -> 0 | C11: =Participants!C13 -> 0 | D11: =Participants!D13 -> 0 | E11: =Participants!$C$1 -> 0 | F11: =IF(Participants!O13="Yes","Ja",IF(Participants!O13="Partly",Participants!P13,"Nee")) -> Nee | G11: =Participants!E13 -> 15+ | H11: =Participants!H13 -> - | I11: =IF($H11>0, "Ja", "Nee") -> Ja | J11: =IF($H11>1, "Ja", "Nee") -> Ja | K11: =IF($H11>2, "Ja", "Nee") -> Ja | L11: =IF($H11>3, "Ja", "Nee") -> Ja | M11: =IF($H11>4, "Ja", "Nee") -> Ja | N11: =IF($H11>5, "Ja", "Nee") -> Ja | O11: ='Club details'!$B$8 -> 0 | Q11: 5 | R11: =IF( ISTEXT(C11), CONCATENATE( UPPER(C11), "; ", B11), "")
A12: 6 | B12: =Participants!B14 -> 0 | C12: =Participants!C14 -> 0 | D12: =Participants!D14 -> 0 | E12: =Participants!$C$1 -> 0 | F12: =IF(Participants!O14="Yes","Ja",IF(Participants!O14="Partly",Participants!P14,"Nee")) -> Nee | G12: =Participants!E14 -> 15+ | H12: =Participants!H14 -> - | I12: =IF($H12>0, "Ja", "Nee") -> Ja | J12: =IF($H12>1, "Ja", "Nee") -> Ja | K12: =IF($H12>2, "Ja", "Nee") -> Ja | L12: =IF($H12>3, "Ja", "Nee") -> Ja | M12: =IF($H12>4, "Ja", "Nee") -> Ja | N12: =IF($H12>5, "Ja", "Nee") -> Ja | O12: ='Club details'!$B$8 -> 0 | Q12: 6 | R12: =IF( ISTEXT(C12), CONCATENATE( UPPER(C12), "; ", B12), "")
A13: 7 | B13: =Participants!B15 -> 0 | C13: =Participants!C15 -> 0 | D13: =Participants!D15 -> 0 | E13: =Participants!$C$1 -> 0 | F13: =IF(Participants!O15="Yes","Ja",IF(Participants!O15="Partly",Participants!P15,"Nee")) -> Nee | G13: =Participants!E15 -> 15+ | H13: =Participants!H15 -> - | I13: =IF($H13>0, "Ja", "Nee") -> Ja | J13: =IF($H13>1, "Ja", "Nee") -> Ja | K13: =IF($H13>2, "Ja", "Nee") -> Ja | L13: =IF($H13>3, "Ja", "Nee") -> Ja | M13: =IF($H13>4, "Ja", "Nee") -> Ja | N13: =IF($H13>5, "Ja", "Nee") -> Ja | O13: ='Club details'!$B$8 -> 0 | Q13: 7 | R13: =IF( ISTEXT(C13), CONCATENATE( UPPER(C13), "; ", B13), "")
A14: 8 | B14: =Participants!B16 -> 0 | C14: =Participants!C16 -> 0 | D14: =Participants!D16 -> 0 | E14: =Participants!$C$1 -> 0 | F14: =IF(Participants!O16="Yes","Ja",IF(Participants!O16="Partly",Participants!P16,"Nee")) -> Nee | G14: =Participants!E16 -> 15+ | H14: =Participants!H16 -> - | I14: =IF($H14>0, "Ja", "Nee") -> Ja | J14: =IF($H14>1, "Ja", "Nee") -> Ja | K14: =IF($H14>2, "Ja", "Nee") -> Ja | L14: =IF($H14>3, "Ja", "Nee") -> Ja | M14: =IF($H14>4, "Ja", "Nee") -> Ja | N14: =IF($H14>5, "Ja", "Nee") -> Ja | O14: ='Club details'!$B$8 -> 0 | Q14: 8 | R14: =IF( ISTEXT(C14), CONCATENATE( UPPER(C14), "; ", B14), "")
A15: 9 | B15: =Participants!B17 -> 0 | C15: =Participants!C17 -> 0 | D15: =Participants!D17 -> 0 | E15: =Participants!$C$1 -> 0 | F15: =IF(Participants!O17="Yes","Ja",IF(Participants!O17="Partly",Participants!P17,"Nee")) -> Nee | G15: =Participants!E17 -> 15+ | H15: =Participants!H17 -> - | I15: =IF($H15>0, "Ja", "Nee") -> Ja | J15: =IF($H15>1, "Ja", "Nee") -> Ja | K15: =IF($H15>2, "Ja", "Nee") -> Ja | L15: =IF($H15>3, "Ja", "Nee") -> Ja | M15: =IF($H15>4, "Ja", "Nee") -> Ja | N15: =IF($H15>5, "Ja", "Nee") -> Ja | O15: ='Club details'!$B$8 -> 0 | Q15: 9 | R15: =IF( ISTEXT(C15), CONCATENATE( UPPER(C15), "; ", B15), "")
A16: 10 | B16: =Participants!B18 -> 0 | C16: =Participants!C18 -> 0 | D16: =Participants!D18 -> 0 | E16: =Participants!$C$1 -> 0 | F16: =IF(Participants!O18="Yes","Ja",IF(Participants!O18="Partly",Participants!P18,"Nee")) -> Nee | G16: =Participants!E18 -> 15+ | H16: =Participants!H18 -> - | I16: =IF($H16>0, "Ja", "Nee") -> Ja | J16: =IF($H16>1, "Ja", "Nee") -> Ja | K16: =IF($H16>2, "Ja", "Nee") -> Ja | L16: =IF($H16>3, "Ja", "Nee") -> Ja | M16: =IF($H16>4, "Ja", "Nee") -> Ja | N16: =IF($H16>5, "Ja", "Nee") -> Ja | O16: ='Club details'!$B$8 -> 0 | Q16: 10 | R16: =IF( ISTEXT(C16), CONCATENATE( UPPER(C16), "; ", B16), "")
A17: 11 | B17: =Participants!B19 -> 0 | C17: =Participants!C19 -> 0 | D17: =Participants!D19 -> 0 | E17: =Participants!$C$1 -> 0 | F17: =IF(Participants!O19="Yes","Ja",IF(Participants!O19="Partly",Participants!P19,"Nee")) -> Nee | G17: =Participants!E19 -> 15+ | H17: =Participants!H19 -> - | I17: =IF($H17>0, "Ja", "Nee") -> Ja | J17: =IF($H17>1, "Ja", "Nee") -> Ja | K17: =IF($H17>2, "Ja", "Nee") -> Ja | L17: =IF($H17>3, "Ja", "Nee") -> Ja | M17: =IF($H17>4, "Ja", "Nee") -> Ja | N17: =IF($H17>5, "Ja", "Nee") -> Ja | O17: ='Club details'!$B$8 -> 0 | Q17: 11 | R17: =IF( ISTEXT(C17), CONCATENATE( UPPER(C17), "; ", B17), "")
A18: 12 | B18: =Participants!B20 -> 0 | C18: =Participants!C20 -> 0 | D18: =Participants!D20 -> 0 | E18: =Participants!$C$1 -> 0 | F18: =IF(Participants!O20="Yes","Ja",IF(Participants!O20="Partly",Participants!P20,"Nee")) -> Nee | G18: =Participants!E20 -> 15+ | H18: =Participants!H20 -> - | I18: =IF($H18>0, "Ja", "Nee") -> Ja | J18: =IF($H18>1, "Ja", "Nee") -> Ja | K18: =IF($H18>2, "Ja", "Nee") -> Ja | L18: =IF($H18>3, "Ja", "Nee") -> Ja | M18: =IF($H18>4, "Ja", "Nee") -> Ja | N18: =IF($H18>5, "Ja", "Nee") -> Ja | O18: ='Club details'!$B$8 -> 0 | Q18: 12 | R18: =IF( ISTEXT(C18), CONCATENATE( UPPER(C18), "; ", B18), "")
... A81: 75 | B81: =Participants!B83 -> 0 | C81: =Participants!C83 -> 0 | D81: =Participants!D83 -> 0 | E81: =Participants!$C$1 -> 0 | F81: =IF(Participants!O83="Yes","Ja",IF(Participants!O83="Partly",Participants!P83,"Nee")) -> Nee | G81: =Participants!E83 -> 15+ | H81: =Participants!H83 -> - | I81: =IF($H81>0, "Ja", "Nee") -> Ja | J81: =IF($H81>1, "Ja", "Nee") -> Ja | K81: =IF($H81>2, "Ja", "Nee") -> Ja | L81: =IF($H81>3, "Ja", "Nee") -> Ja | M81: =IF($H81>4, "Ja", "Nee") -> Ja | N81: =IF($H81>5, "Ja", "Nee") -> Ja | O81: ='Club details'!$B$8 -> 0 | Q81: 75 | R81: =IF( ISTEXT(C81), CONCATENATE( UPPER(C81), "; ", B81), "")

Sheet Constanten
B2: Ja/Nee | D2: Hotel | F2: Categorie | H2: Jaargang | J2: Kosten stage | N2: Opties stage
B3: Ja | D3: Atlas Brielle | F3: 15- | H3: 23rd | K3: Judoka | L3: Coach | N3: ID | O3: Opties | P3: Nachten | Q3: Trainingen
B4: Nee | D4: Atlas Spijkenisse | F4: 15+ | H4: 2026 | J4: Hele stage | K4: 75 | L4: 0 | N4: 1 | O4: a: Whole training camp | P4: 0 | Q4: 6
D5: Sluiskop | F5: Coach | J5: Training | K5: =KostenHeleStageJudoka/4+1.25 -> 20 | L5: 0 | N5: 2 | O5: b: 3 training sessions | P5: 0 | Q5: 3
D6: Vlaardingen | N6: 3 | O6: c: 2 training sessions | P6: 0 | Q6: 2
J7: Clinic | K7: 15 | L7: 0 | N7: 4 | O7: d: 1 training sessions | P7: 0 | Q7: 1
B8: Betaald | D8: Aankomstdag | F8: Grens U15
B9: Yes | D9: 26 | F9: =JAARTAL-14 -> 2012
B10: Partly | D10: 27
B11: No | D11: 28
D12: 29
N13: Kosten stage
N14: Aantal | O14: Bedrag
N15: 0 | O15: 0
N16: 1 | O16: =KostenEnkeleTrainingJudoka*N16 -> 20
J17: Kosten vervoer | N17: 2 | O17: =KostenEnkeleTrainingJudoka*N17 -> 40
J18: Vervoer hotel | K18: 10 | N18: 3 | O18: =KostenEnkeleTrainingJudoka*N18 -> 60
J19: Vervoer schiphol | K19: 25 | N19: 4 | O19: =KostenHeleStageJudoka -> 75
N20: 5 | O20: =O19 -> 75
N21: 6 | O21: =O19 -> 75
B26: Calculating recursively: CTRL + SHIFT + ENTER
